BEGIN:VCALENDAR
VERSION:2.0
PRODID:-//Historic C-Street - ECPv6.15.20//NONSGML v1.0//EN
CALSCALE:GREGORIAN
METHOD:PUBLISH
X-ORIGINAL-URL:https://www.historiccstreet.org
X-WR-CALDESC:Events for Historic C-Street
REFRESH-INTERVAL;VALUE=DURATION:PT1H
X-Robots-Tag:noindex
X-PUBLISHED-TTL:PT1H
BEGIN:VTIMEZONE
TZID:America/Chicago
BEGIN:DAYLIGHT
TZOFFSETFROM:-0600
TZOFFSETTO:-0500
TZNAME:CDT
DTSTART:20250309T080000
END:DAYLIGHT
BEGIN:STANDARD
TZOFFSETFROM:-0500
TZOFFSETTO:-0600
TZNAME:CST
DTSTART:20251102T070000
END:STANDARD
BEGIN:DAYLIGHT
TZOFFSETFROM:-0600
TZOFFSETTO:-0500
TZNAME:CDT
DTSTART:20260308T080000
END:DAYLIGHT
BEGIN:STANDARD
TZOFFSETFROM:-0500
TZOFFSETTO:-0600
TZNAME:CST
DTSTART:20261101T070000
END:STANDARD
BEGIN:DAYLIGHT
TZOFFSETFROM:-0600
TZOFFSETTO:-0500
TZNAME:CDT
DTSTART:20270314T080000
END:DAYLIGHT
BEGIN:STANDARD
TZOFFSETFROM:-0500
TZOFFSETTO:-0600
TZNAME:CST
DTSTART:20271107T070000
END:STANDARD
END:VTIMEZONE
BEGIN:VEVENT
DTSTART;TZID=America/Chicago:20260508T140000
DTEND;TZID=America/Chicago:20260508T200000
DTSTAMP:20260421T060642
CREATED:20260409T014721Z
LAST-MODIFIED:20260409T014721Z
UID:10003797-1778248800-1778270400@www.historiccstreet.org
SUMMARY:Blend & Bloom at Serendipity
DESCRIPTION:Create your own arrangement and blend your perfect perfume at a special Mother’s Day workshop on May 8th. Two time slots\, 2pm or 6pm. Seats are limited. \nDiscover more live music\, restaurants\, and shops on Historic Commercial Street in Springfield\, MO. \nExplore events and local favorites here:\nhttps://historicstreet.org \nFollow along on Facebook for updates and photos:\nhttps://www.facebook.com/CstreetSpringfieldMissouri/
URL:https://www.historiccstreet.org/event/blend-bloom-at-serendipity/
LOCATION:Serendipity 417\, 215 W Commercial St\, Springfield\, MO\, 65803\, United States
CATEGORIES:All Events
ATTACH;FMTTYPE=image/jpeg:https://www.historiccstreet.org/wp-content/uploads/2026/04/SerendipityMothers.jpg
END:VEVENT
END:VCALENDAR